BEGIN:VCALENDAR
PRODID:-//eluceo/ical//2.0/EN
VERSION:2.0
CALSCALE:GREGORIAN
BEGIN:VEVENT
UID:6dbaeadbad88a4879ddfa0f7b44fa889
DTSTAMP:20260423T052322Z
SUMMARY:Noon KJA Friendshippers - Sherrill Hills
DESCRIPTION:The Knoxville Jewish Alliance\nThe Knoxville Jewish Alliance Ca
 lendar\nhttps://jewishknoxville.org/calendar/september-2017-friendshippers
 \n\nPlease join us for this month’s Friendshippers program.  The Friend
 shippers group gets together once a month for lunch and entertainment.  F
 riendshippers is open to all—we don’t check IDs at the door!\n\n \n\n
 Wednesday\, September 13: Marilyn Kallet\, How to Get Heat Without Fire:
  Love Poems for Autumn​\n\nDr. Kallet will perform love poems for any a
 ge. She is the author of 17 books\, including The Love That Moves Me\, poe
 try from Black Widow Press. She also publishes children's boo...
DTSTART;TZID=America/New_York:20170913T120000
DTEND;TZID=America/New_York:20170913T134500
END:VEVENT
END:VCALENDAR
