BEGIN:VCALENDAR
PRODID:-//eluceo/ical//2.0/EN
VERSION:2.0
CALSCALE:GREGORIAN
BEGIN:VEVENT
UID:2135996de12eb5c1a3a839f899e8a647
DTSTAMP:20260424T220412Z
SUMMARY:TBD Halen & Ansel Presser B'nai Mitzvah - HAS
DESCRIPTION:The Knoxville Jewish Alliance\nThe Knoxville Jewish Alliance Ca
 lendar\nhttps://jewishknoxville.org/calendar/tbd-halen-ansel-presser-bnai-
 mitzvah-has\n\n**Time to be determined\n\n*Details added when we know a bi
 t more.
DTSTART;TZID=America/New_York:20260615T005500
DTEND;TZID=America/New_York:20260615T230000
END:VEVENT
END:VCALENDAR
