BEGIN:VCALENDAR
PRODID:-//eluceo/ical//2.0/EN
VERSION:2.0
CALSCALE:GREGORIAN
BEGIN:VEVENT
UID:46edd27c96951d4efaa982309e468c37
DTSTAMP:20260424T130756Z
SUMMARY:TBD Parents' Shabbat Dinner-HAS
DESCRIPTION:The Knoxville Jewish Alliance\nThe Knoxville Jewish Alliance Ca
 lendar\nhttps://jewishknoxville.org/calendar/tbd-parents-shabbat-dinner-ha
 s\n\nHeld at the Littmann's house.\n\nContact Peggy Littmann for details a
 nd RSVP
DTSTART;TZID=America/New_York:20250926T170000
DTEND;TZID=America/New_York:20250926T190000
END:VEVENT
END:VCALENDAR
