BEGIN:VCALENDAR
PRODID:-//eluceo/ical//2.0/EN
VERSION:2.0
CALSCALE:GREGORIAN
BEGIN:VEVENT
UID:c33bfca07fb241a70c59f96a42406d8c
DTSTAMP:20260422T171229Z
SUMMARY:Thanksgiving Holiday - KJA Offices CLOSED
DESCRIPTION:The Knoxville Jewish Alliance\nThe Knoxville Jewish Alliance Ca
 lendar\nhttps://jewishknoxville.org/calendar/thanksgiving-holiday-ajcc-off
 ices-closed-246649\n\nThanksgiving Holiday\n\nKJA Offices Closed
DTSTART;TZID=America/New_York:20171123T000000
DTEND;TZID=America/New_York:20171124T000000
END:VEVENT
END:VCALENDAR
