BEGIN:VCALENDAR
PRODID:-//eluceo/ical//2.0/EN
VERSION:2.0
CALSCALE:GREGORIAN
BEGIN:VEVENT
UID:e557e8344ef63444c54c55fcd48f6db7
DTSTAMP:20260424T142205Z
SUMMARY:6:30P The Jewish South: An American History by Shari Rabin - Judaic
  Studies
DESCRIPTION:The Knoxville Jewish Alliance\nThe Knoxville Jewish Alliance Ca
 lendar\nhttps://jewishknoxville.org/calendar/the-jewish-south-an-american-
 history-a-lecture-by-shari-rabin-1744739522\n\nShari Rabin will speak on 
 her new book "The Jewish South: An American History." This event will be h
 eld in person and with a livestream option. For more information\, visit:
  https://calendar.utk.edu/event/the-jewish-south-an-american-story?utm_ca
 mpaign=widget&utm_medium=widget&utm_source=Calendar
DTSTART;TZID=America/New_York:20260205T180000
DTEND;TZID=America/New_York:20260205T200000
END:VEVENT
END:VCALENDAR
