BEGIN:VCALENDAR
PRODID:-//eluceo/ical//2.0/EN
VERSION:2.0
CALSCALE:GREGORIAN
BEGIN:VEVENT
UID:35da255fe09473d31efb9c6981c6656c
DTSTAMP:20260423T160326Z
SUMMARY:3-5pm - The Liberation of Jerusalem - Hadassah
DESCRIPTION:The Knoxville Jewish Alliance\nThe Knoxville Jewish Alliance Ca
 lendar\nhttps://jewishknoxville.org/calendar/the-liberation-of-jerusalem\n
 \nThe Liberation of Jerusalem
DTSTART;TZID=America/New_York:20250608T150000
DTEND;TZID=America/New_York:20250608T170000
END:VEVENT
END:VCALENDAR
