BEGIN:VCALENDAR
PRODID:-//eluceo/ical//2.0/EN
VERSION:2.0
CALSCALE:GREGORIAN
BEGIN:VEVENT
UID:87a6fb9fe3003000c86153b3c7420770
DTSTAMP:20260423T122325Z
SUMMARY:9:30a Tifannie Rosen Bat Mitzvah-HA
DESCRIPTION:The Knoxville Jewish Alliance\nThe Knoxville Jewish Alliance Ca
 lendar\nhttps://jewishknoxville.org/calendar/tifannie-rosen-bat-mitzvah-14
 8806\n\nJoin the Rosen family as we celebrate Tifannie becoming a Bat Mitz
 vah.
DTSTART;TZID=America/New_York:20160305T093000
DTEND;TZID=America/New_York:20160305T140000
END:VEVENT
END:VCALENDAR
