BEGIN:VCALENDAR
PRODID:-//eluceo/ical//2.0/EN
VERSION:2.0
CALSCALE:GREGORIAN
BEGIN:VEVENT
UID:d4c2fe5b7db7dcfeae47f00f64adcc3c
DTSTAMP:20260425T150638Z
SUMMARY:1:00 - 4:00 p.m. - Social Justice Fair - AJCC Building
DESCRIPTION:The Knoxville Jewish Alliance\nThe Knoxville Jewish Alliance Ca
 lendar\nhttps://jewishknoxville.org/calendar/time-tbd-community-organizati
 on-fair--ajcc-building-234059\n\nSocial Justice Fair\n\nThe power of organ
 ized people: the best antidote to a disorganized era. \n\nAll around Knox
 ville and East Tennessee\, justice-minded organizations work tirelessly to
  improve their communities.  At the same time\, individuals with compassi
 onate hearts are looking for communities to join.  Join us for a day of g
 etting to know the groups in our community that need your passions and ene
 rgy.  \n\n 
DTSTART;TZID=America/New_York:20170723T130000
DTEND;TZID=America/New_York:20170723T160000
END:VEVENT
END:VCALENDAR
