BEGIN:VCALENDAR
PRODID:-//eluceo/ical//2.0/EN
VERSION:2.0
CALSCALE:GREGORIAN
BEGIN:VEVENT
UID:c7e36bb3a13070152fdc9dce0ff339e0
DTSTAMP:20260423T053227Z
SUMMARY:5:30p - Tot Shabbat & Kids Kabbalat & Dinner - HA
DESCRIPTION:The Knoxville Jewish Alliance\nThe Knoxville Jewish Alliance Ca
 lendar\nhttps://jewishknoxville.org/calendar/tot-shabbat-kids-kabbalat--di
 nnerha-325377\n\nJoin us for a fun Shabbat dinner.
DTSTART;TZID=America/New_York:20191025T173000
DTEND;TZID=America/New_York:20191025T193000
END:VEVENT
END:VCALENDAR
