BEGIN:VCALENDAR
PRODID:-//eluceo/ical//2.0/EN
VERSION:2.0
CALSCALE:GREGORIAN
BEGIN:VEVENT
UID:afbe4ac88a20827d45a2c68a01fb7f0e
DTSTAMP:20260422T181853Z
SUMMARY:3:00P Yom HaShoah-JCOR
DESCRIPTION:The Knoxville Jewish Alliance\nThe Knoxville Jewish Alliance Ca
 lendar\nhttps://jewishknoxville.org/calendar/yom-hashoah\n\nAnnual Holocau
 st Remembrance Program at JCOR
DTSTART;TZID=America/New_York:20260419T150000
DTEND;TZID=America/New_York:20260419T160000
END:VEVENT
END:VCALENDAR
