BEGIN:VCALENDAR
PRODID:-//eluceo/ical//2.0/EN
VERSION:2.0
CALSCALE:GREGORIAN
BEGIN:VEVENT
UID:233d1a4a1509afdcbae8d240375e4e3c
DTSTAMP:20260422T171047Z
SUMMARY:6p -  Yom HaShoah Event - KJA
DESCRIPTION:The Knoxville Jewish Alliance\nThe Knoxville Jewish Alliance Ca
 lendar\nhttps://jewishknoxville.org/calendar/yom-hashoah-event-1762376004\
 n\nJudy Kolb was born in 1940\, in the poorest section of Shanghai. The fa
 mily remained in Hongkou throughout the war years. \n\nThree years after 
 the war ended\, they emigrated to San Francisco\, California\, and in 1955
  settled in Chicago. \n\n \n\nThe Knoxville Jewish Alliance is honored t
 o host Judy as she recounts her family's story. Please join us for her pre
 sentation. Reception to follow.\n\nRSVP here
DTSTART;TZID=America/New_York:20260419T180000
DTEND;TZID=America/New_York:20260419T193000
END:VEVENT
END:VCALENDAR
